BEGIN:VCALENDAR
VERSION:2.0
PRODID:-//New York Institute of Food Technologists (NYIFT) - ECPv6.15.20//NONSGML v1.0//EN
CALSCALE:GREGORIAN
METHOD:PUBLISH
X-ORIGINAL-URL:https://nyift.org
X-WR-CALDESC:Events for New York Institute of Food Technologists (NYIFT)
REFRESH-INTERVAL;VALUE=DURATION:PT1H
X-Robots-Tag:noindex
X-PUBLISHED-TTL:PT1H
BEGIN:VTIMEZONE
TZID:America/New_York
BEGIN:DAYLIGHT
TZOFFSETFROM:-0500
TZOFFSETTO:-0400
TZNAME:EDT
DTSTART:20250309T070000
END:DAYLIGHT
BEGIN:STANDARD
TZOFFSETFROM:-0400
TZOFFSETTO:-0500
TZNAME:EST
DTSTART:20251102T060000
END:STANDARD
BEGIN:DAYLIGHT
TZOFFSETFROM:-0500
TZOFFSETTO:-0400
TZNAME:EDT
DTSTART:20260308T070000
END:DAYLIGHT
BEGIN:STANDARD
TZOFFSETFROM:-0400
TZOFFSETTO:-0500
TZNAME:EST
DTSTART:20261101T060000
END:STANDARD
BEGIN:DAYLIGHT
TZOFFSETFROM:-0500
TZOFFSETTO:-0400
TZNAME:EDT
DTSTART:20270314T070000
END:DAYLIGHT
BEGIN:STANDARD
TZOFFSETFROM:-0400
TZOFFSETTO:-0500
TZNAME:EST
DTSTART:20271107T060000
END:STANDARD
END:VTIMEZONE
BEGIN:VEVENT
DTSTART;TZID=America/New_York:20260506T170000
DTEND;TZID=America/New_York:20260506T200000
DTSTAMP:20260420T061758
CREATED:20260401T215351Z
LAST-MODIFIED:20260402T020458Z
UID:51029-1778086800-1778097600@nyift.org
SUMMARY:Early Careerists Networking
DESCRIPTION:Register Now\n\n\n\nAdd to Calendar\n\n\n\n\n\n\n\n\n\n\n\n\n\nEarly Careerists Networking\n\n\n\nChanges in Consumer Behavior Towards Natural Functional Foods & Beverages\n\n\n\n\n\n\n\nNetwork over pizza & drinks with others who are early in their careers. \n\n\n\n\nLocation\n\n\n\n\n\n\n\n\n\nRegister Now\n\n\n\nRegistration closes Friday\, May 1\, 2026 \n\n\n\nAdd to Calendar\n\n\n\n\n\nSchedule\n\n\n\n5:00 – 8:00 PMNetworking\, Pizza\, & Drinks\n\n\n\n\n\nFees\n\n\n\nLimit of 35 attendees\, register today! \n\n\n\nEarly Careerists$15\n\n\n\n\n\nMenu\n\n\n\nIncluded with registration:Drink ticket & pizza
URL:https://nyift.org/event/early-careerists-networking/
LOCATION:Flounder Brewing Co.\, 2 Clerico Lane\, Building 4\, Hillsborough\, New Jersey\, 08844\, United States
CATEGORIES:CNJIFT,Networking,NYIFT
END:VEVENT
BEGIN:VEVENT
DTSTART;TZID=America/New_York:20260513T170000
DTEND;TZID=America/New_York:20260513T200000
DTSTAMP:20260420T061758
CREATED:20260317T182725Z
LAST-MODIFIED:20260410T150135Z
UID:50979-1778691600-1778702400@nyift.org
SUMMARY:Shifting Tides: Changes in Consumer Behavior
DESCRIPTION:Register Now\n\n\n\nAdd to Calendar\n\n\n\n\n\n\n\n\n\n\n\n\n\nShifting Tides\n\n\n\nChanges in Consumer Behavior Towards Natural Functional Foods & Beverages\n\n\n\n\n\n\n\n\n\n\n\nOverall\, health first thinking and ingredient led innovation are reshaping how consumers choose and trust beverage brands. The 2026 beverage landscape shows a decisive shift toward lower sugar formulations\, with consumers treating reduced sugar as a basic expectation rather than a bonus. Functional beverages are becoming part of daily wellness routines\, driven by interest in energy\, focus\, gut health\, and stress support. Trending ingredients like mushrooms\, botanicals\, electrolytes\, and prebiotics reflect a desire for natural\, evidence aligned performance benefits. \n\n\n\n\n\n\n\n\n\nSpeaker\n\n\n\nDamian Browne\, Ph.D.\n\n\n\nVice President\, Research & Development – PepsiCo \n\n\n\n\nBio\n\nI am currently VP\, R&D region lead serving as the primary R&D point of contact for all North America business partners and responsible for the technical development of all domestic brands including Away-From-Home and our joint ventures. Prior to this role I led a team responsible for connecting early scientific insights and consumer unmet needs to drive the front end of innovation for Global Beverages. The team consisted of Culinary\, Early-Stage Innovation (ESI)\, Ingredient Specifications\, Ingredient and Flavor subject matter experts driving our science of ingredients and flavors.   \n\n\n\nI started my PepsiCo career in 2007 in Cork\, Ireland developing and building analytical and research chemistry capabilities supporting Europe and AMEA translating scientific research to process solutions for improved quality and productivity. \n\n\n\n\n\n\n\n\n\nLocation\n\n\n\n\n\n\n\n\n\nRegister Now\n\n\n\nRegistration closes Wednesday\, May 6\, 2026 \n\n\n\nAdd to Calendar\n\n\n\n\n\nSchedule\n\n\n\n5:00 – 6:00 PMNetworking & Appetizers6:00 – 7:00 PMSpeaker7:00 – 8:00 PMDinner\n\n\n\n\n\nFees\n\n\n\nLimit of 100 attendees\, register today! \n\n\n\nMembers$55Students\, Unemployed\, Emeritus\, & Executive Board$30Non-Members$60\n\n\n\n\n\nMenu\n\n\n\nBuffet
URL:https://nyift.org/event/shifting-tides-changes-in-consumer-behavior/
LOCATION:PepsiCo Cafeteria\, 50 Stevens Avenue\, Valhalla\, NY\, 10595\, United States
CATEGORIES:NYIFT
END:VEVENT
END:VCALENDAR